BEGIN:VCALENDAR
VERSION:2.0
PRODID:-//GGNYS - ECPv6.15.17.1//NONSGML v1.0//EN
CALSCALE:GREGORIAN
METHOD:PUBLISH
X-WR-CALNAME:GGNYS
X-ORIGINAL-URL:https://girlguidingnys.org.uk
X-WR-CALDESC:Events for GGNYS
REFRESH-INTERVAL;VALUE=DURATION:PT1H
X-Robots-Tag:noindex
X-PUBLISHED-TTL:PT1H
BEGIN:VTIMEZONE
TZID:UTC
BEGIN:STANDARD
TZOFFSETFROM:+0000
TZOFFSETTO:+0000
TZNAME:UTC
DTSTART:20220101T000000
END:STANDARD
END:VTIMEZONE
BEGIN:VEVENT
DTSTART;VALUE=DATE:20230324
DTEND;VALUE=DATE:20230327
DTSTAMP:20260424T014929
CREATED:20221021T185004Z
LAST-MODIFIED:20221021T185004Z
UID:1666-1679616000-1679875199@girlguidingnys.org.uk
SUMMARY:NYS Volunteers Training Weekend
DESCRIPTION:Please join us for a weekend of fun and friendship\, come and learn some new skills\, share your Guiding experience\, and have an adventure. The event is open to all our volunteers\, including young leaders 16+ and unit helpers. Discover more here
URL:https://girlguidingnys.org.uk/event/nys-volunteers-training-weekend/
LOCATION:Waddow Hall\, Waddington Road\, Clitheroe\, Lancashire\, BB7 3LD\, United Kingdom
CATEGORIES:Paid via Office
ATTACH;FMTTYPE=image/jpeg:https://girlguidingnys.org.uk/wp-content/uploads/2022/06/Jumping.jpg
END:VEVENT
END:VCALENDAR