BEGIN:VCALENDAR
VERSION:2.0
PRODID:-//GGNYS - ECPv6.15.17.1//NONSGML v1.0//EN
CALSCALE:GREGORIAN
METHOD:PUBLISH
X-WR-CALNAME:GGNYS
X-ORIGINAL-URL:https://girlguidingnys.org.uk
X-WR-CALDESC:Events for GGNYS
REFRESH-INTERVAL;VALUE=DURATION:PT1H
X-Robots-Tag:noindex
X-PUBLISHED-TTL:PT1H
BEGIN:VTIMEZONE
TZID:UTC
BEGIN:STANDARD
TZOFFSETFROM:+0000
TZOFFSETTO:+0000
TZNAME:UTC
DTSTART:20220101T000000
END:STANDARD
END:VTIMEZONE
BEGIN:VEVENT
DTSTART;VALUE=DATE:20230407
DTEND;VALUE=DATE:20230410
DTSTAMP:20260424T093148
CREATED:20230207T135252Z
LAST-MODIFIED:20230207T135252Z
UID:1947-1680825600-1681084799@girlguidingnys.org.uk
SUMMARY:Trefoil Easter Weekender
DESCRIPTION:An opportunity to celebrate the start of the spring time with Trefoil friends old and new\, with optional activities\, an Easter Sunday walk\, and a chance to explore the historic market town of Clitheroe.
URL:https://girlguidingnys.org.uk/event/trefoil-easter-weekender/
LOCATION:Waddow Hall\, Waddington Road\, Clitheroe\, Lancashire\, BB7 3LD\, United Kingdom
CATEGORIES:Girlguiding UK Event
ATTACH;FMTTYPE=image/jpeg:https://girlguidingnys.org.uk/wp-content/uploads/2022/06/trees-g1f17baa30_1920.jpg
END:VEVENT
END:VCALENDAR