BEGIN:VCALENDAR
VERSION:2.0
PRODID:-//GGNYS - ECPv6.15.17.1//NONSGML v1.0//EN
CALSCALE:GREGORIAN
METHOD:PUBLISH
X-WR-CALNAME:GGNYS
X-ORIGINAL-URL:https://girlguidingnys.org.uk
X-WR-CALDESC:Events for GGNYS
REFRESH-INTERVAL;VALUE=DURATION:PT1H
X-Robots-Tag:noindex
X-PUBLISHED-TTL:PT1H
BEGIN:VTIMEZONE
TZID:UTC
BEGIN:STANDARD
TZOFFSETFROM:+0000
TZOFFSETTO:+0000
TZNAME:UTC
DTSTART:20220101T000000
END:STANDARD
END:VTIMEZONE
BEGIN:VEVENT
DTSTART;VALUE=DATE:20230505
DTEND;VALUE=DATE:20230508
DTSTAMP:20260424T110425
CREATED:20230207T135917Z
LAST-MODIFIED:20230207T135917Z
UID:1949-1683244800-1683503999@girlguidingnys.org.uk
SUMMARY:Waddow's Wizardly Weekend
DESCRIPTION:A wizardly weekend of adventure at the Waddow Hall school of magic\, complete with spellbinding activities. Includes activities like broomstick flying\, games\, care of mythical creatures\, potions class and much more. For Brownies and Guides.
URL:https://girlguidingnys.org.uk/event/waddows-wizardly-weekend/
LOCATION:Waddow Hall\, Waddington Road\, Clitheroe\, Lancashire\, BB7 3LD\, United Kingdom
CATEGORIES:Girlguiding UK Event
ATTACH;FMTTYPE=image/jpeg:https://girlguidingnys.org.uk/wp-content/uploads/2023/02/black-ga7d1d2d2b_1920.jpg
END:VEVENT
END:VCALENDAR