BEGIN:VCALENDAR
VERSION:2.0
PRODID:-//GGNYS - ECPv6.15.17.1//NONSGML v1.0//EN
CALSCALE:GREGORIAN
METHOD:PUBLISH
X-ORIGINAL-URL:https://girlguidingnys.org.uk
X-WR-CALDESC:Events for GGNYS
REFRESH-INTERVAL;VALUE=DURATION:PT1H
X-Robots-Tag:noindex
X-PUBLISHED-TTL:PT1H
BEGIN:VTIMEZONE
TZID:UTC
BEGIN:STANDARD
TZOFFSETFROM:+0000
TZOFFSETTO:+0000
TZNAME:UTC
DTSTART:20250101T000000
END:STANDARD
END:VTIMEZONE
BEGIN:VEVENT
DTSTART;TZID=UTC:20260118T100000
DTEND;TZID=UTC:20260118T160000
DTSTAMP:20260421T172017
CREATED:20251008T151435Z
LAST-MODIFIED:20251201T105501Z
UID:3633-1768730400-1768752000@girlguidingnys.org.uk
SUMMARY:First response training -FULLY BOOKED
DESCRIPTION:To book contact Elizabeth on countyadministrator@girlguidingnys.org.uk
URL:https://girlguidingnys.org.uk/event/first-response-training-3/
LOCATION:NEE Region Office\, 7 Alpha Court\, Monks Cross Drive\, York\, YO32 9WN\, United Kingdom
CATEGORIES:Girlguiding North East England
END:VEVENT
BEGIN:VEVENT
DTSTART;TZID=UTC:20260118T103000
DTEND;TZID=UTC:20260118T153000
DTSTAMP:20260421T172017
CREATED:20251015T150151Z
LAST-MODIFIED:20251015T150306Z
UID:3646-1768732200-1768750200@girlguidingnys.org.uk
SUMMARY:Safer Guiding in person training
DESCRIPTION:To book email Elizabeth countyadministrator@girlguidingnys.org.uk
URL:https://girlguidingnys.org.uk/event/safer-guiding-in-person-training/
LOCATION:NEE Region Office\, 7 Alpha Court\, Monks Cross Drive\, York\, YO32 9WN\, United Kingdom
CATEGORIES:Girlguiding North East England
END:VEVENT
END:VCALENDAR