BEGIN:VCALENDAR
VERSION:2.0
PRODID:-//GGNYS - ECPv6.15.17.1//NONSGML v1.0//EN
CALSCALE:GREGORIAN
METHOD:PUBLISH
X-WR-CALNAME:GGNYS
X-ORIGINAL-URL:https://girlguidingnys.org.uk
X-WR-CALDESC:Events for GGNYS
REFRESH-INTERVAL;VALUE=DURATION:PT1H
X-Robots-Tag:noindex
X-PUBLISHED-TTL:PT1H
BEGIN:VTIMEZONE
TZID:UTC
BEGIN:STANDARD
TZOFFSETFROM:+0000
TZOFFSETTO:+0000
TZNAME:UTC
DTSTART:20240101T000000
END:STANDARD
END:VTIMEZONE
BEGIN:VEVENT
DTSTART;TZID=UTC:20260325T130000
DTEND;TZID=UTC:20260325T170000
DTSTAMP:20260421T172714
CREATED:20260225T145100Z
LAST-MODIFIED:20260225T145100Z
UID:3692-1774443600-1774458000@girlguidingnys.org.uk
SUMMARY:White Rose House unavailable
DESCRIPTION:
URL:https://girlguidingnys.org.uk/event/white-rose-house-unavailable-36/
LOCATION:White Rose House\, 79 Main Street\, Wheldrake\, Yorkshire\, YO19 6AA\, United Kingdom
CATEGORIES:White Rose
END:VEVENT
BEGIN:VEVENT
DTSTART;TZID=UTC:20260325T100000
DTEND;TZID=UTC:20260325T120000
DTSTAMP:20260421T172714
CREATED:20260225T144957Z
LAST-MODIFIED:20260225T144957Z
UID:3690-1774432800-1774440000@girlguidingnys.org.uk
SUMMARY:White Rose House unavailable
DESCRIPTION:
URL:https://girlguidingnys.org.uk/event/white-rose-house-unavailable-35/
LOCATION:White Rose House\, 79 Main Street\, Wheldrake\, Yorkshire\, YO19 6AA\, United Kingdom
CATEGORIES:White Rose
END:VEVENT
BEGIN:VEVENT
DTSTART;TZID=UTC:20260320T080000
DTEND;TZID=UTC:20260322T170000
DTSTAMP:20260421T172714
CREATED:20250703T142505Z
LAST-MODIFIED:20250703T142505Z
UID:3596-1773993600-1774198800@girlguidingnys.org.uk
SUMMARY:White Rose House unavailable
DESCRIPTION:
URL:https://girlguidingnys.org.uk/event/white-rose-house-unavailable-31/
LOCATION:White Rose House\, 79 Main Street\, Wheldrake\, Yorkshire\, YO19 6AA\, United Kingdom
CATEGORIES:White Rose
END:VEVENT
BEGIN:VEVENT
DTSTART;TZID=UTC:20260319T150000
DTEND;TZID=UTC:20260319T170000
DTSTAMP:20260421T172714
CREATED:20260225T144529Z
LAST-MODIFIED:20260225T144633Z
UID:3686-1773932400-1773939600@girlguidingnys.org.uk
SUMMARY:White Rose House unavailable
DESCRIPTION:
URL:https://girlguidingnys.org.uk/event/white-rose-house-unavailable-33/
LOCATION:White Rose House\, 79 Main Street\, Wheldrake\, Yorkshire\, YO19 6AA\, United Kingdom
CATEGORIES:White Rose
END:VEVENT
BEGIN:VEVENT
DTSTART;TZID=UTC:20260312T150000
DTEND;TZID=UTC:20260312T170000
DTSTAMP:20260421T172714
CREATED:20260225T144727Z
LAST-MODIFIED:20260225T144734Z
UID:3688-1773327600-1773334800@girlguidingnys.org.uk
SUMMARY:White Rose House unavailable
DESCRIPTION:
URL:https://girlguidingnys.org.uk/event/white-rose-house-unavailable-34/
LOCATION:White Rose House\, 79 Main Street\, Wheldrake\, Yorkshire\, YO19 6AA\, United Kingdom
CATEGORIES:White Rose
END:VEVENT
BEGIN:VEVENT
DTSTART;TZID=UTC:20260307T100000
DTEND;TZID=UTC:20260307T160000
DTSTAMP:20260421T172714
CREATED:20251008T152856Z
LAST-MODIFIED:20251008T153612Z
UID:3637-1772877600-1772899200@girlguidingnys.org.uk
SUMMARY:First response training
DESCRIPTION:To book email Elizabeth countyadministrator@girlguidingnys.org.uk
URL:https://girlguidingnys.org.uk/event/first-response-training-4/
LOCATION:NEE Region Office\, 7 Alpha Court\, Monks Cross Drive\, York\, YO32 9WN\, United Kingdom
CATEGORIES:Girlguiding North East England
END:VEVENT
BEGIN:VEVENT
DTSTART;TZID=UTC:20260303T100000
DTEND;TZID=UTC:20260303T130000
DTSTAMP:20260421T172714
CREATED:20260225T140711Z
LAST-MODIFIED:20260225T140752Z
UID:3684-1772532000-1772542800@girlguidingnys.org.uk
SUMMARY:White Rose House unavailable
DESCRIPTION:
URL:https://girlguidingnys.org.uk/event/white-rose-house-unavailable-32/
LOCATION:White Rose House\, 79 Main Street\, Wheldrake\, Yorkshire\, YO19 6AA\, United Kingdom
CATEGORIES:White Rose
END:VEVENT
BEGIN:VEVENT
DTSTART;TZID=UTC:20260118T103000
DTEND;TZID=UTC:20260118T153000
DTSTAMP:20260421T172714
CREATED:20251015T150151Z
LAST-MODIFIED:20251015T150306Z
UID:3646-1768732200-1768750200@girlguidingnys.org.uk
SUMMARY:Safer Guiding in person training
DESCRIPTION:To book email Elizabeth countyadministrator@girlguidingnys.org.uk
URL:https://girlguidingnys.org.uk/event/safer-guiding-in-person-training/
LOCATION:NEE Region Office\, 7 Alpha Court\, Monks Cross Drive\, York\, YO32 9WN\, United Kingdom
CATEGORIES:Girlguiding North East England
END:VEVENT
BEGIN:VEVENT
DTSTART;TZID=UTC:20260118T100000
DTEND;TZID=UTC:20260118T160000
DTSTAMP:20260421T172714
CREATED:20251008T151435Z
LAST-MODIFIED:20251201T105501Z
UID:3633-1768730400-1768752000@girlguidingnys.org.uk
SUMMARY:First response training -FULLY BOOKED
DESCRIPTION:To book contact Elizabeth on countyadministrator@girlguidingnys.org.uk
URL:https://girlguidingnys.org.uk/event/first-response-training-3/
LOCATION:NEE Region Office\, 7 Alpha Court\, Monks Cross Drive\, York\, YO32 9WN\, United Kingdom
CATEGORIES:Girlguiding North East England
END:VEVENT
BEGIN:VEVENT
DTSTART;VALUE=DATE:20251212
DTEND;VALUE=DATE:20251214
DTSTAMP:20260421T172714
CREATED:20250703T142424Z
LAST-MODIFIED:20250703T142424Z
UID:3594-1765497600-1765670399@girlguidingnys.org.uk
SUMMARY:White Rose  House unavailable
DESCRIPTION:
URL:https://girlguidingnys.org.uk/event/white-rose-house-unavailable-30/
LOCATION:White Rose House\, 79 Main Street\, Wheldrake\, Yorkshire\, YO19 6AA\, United Kingdom
CATEGORIES:White Rose
END:VEVENT
BEGIN:VEVENT
DTSTART;VALUE=DATE:20251205
DTEND;VALUE=DATE:20251208
DTSTAMP:20260421T172714
CREATED:20250703T142325Z
LAST-MODIFIED:20250703T142325Z
UID:3592-1764892800-1765151999@girlguidingnys.org.uk
SUMMARY:White Rose House unavailable
DESCRIPTION:
URL:https://girlguidingnys.org.uk/event/white-rose-house-unavailable-29/
LOCATION:White Rose House\, 79 Main Street\, Wheldrake\, Yorkshire\, YO19 6AA\, United Kingdom
CATEGORIES:White Rose
END:VEVENT
BEGIN:VEVENT
DTSTART;VALUE=DATE:20251130
DTEND;VALUE=DATE:20251201
DTSTAMP:20260421T172714
CREATED:20250213T140818Z
LAST-MODIFIED:20250213T140818Z
UID:3294-1764460800-1764547199@girlguidingnys.org.uk
SUMMARY:WRH unavailable
DESCRIPTION:
URL:https://girlguidingnys.org.uk/event/wrh-unavailable-4/
LOCATION:White Rose House\, 79 Main Street\, Wheldrake\, Yorkshire\, YO19 6AA\, United Kingdom
CATEGORIES:White Rose
END:VEVENT
BEGIN:VEVENT
DTSTART;TZID=UTC:20251114T190000
DTEND;TZID=UTC:20251115T000000
DTSTAMP:20260421T172714
CREATED:20250213T142431Z
LAST-MODIFIED:20250908T193324Z
UID:3310-1763146800-1763164800@girlguidingnys.org.uk
SUMMARY:Celebrating our volunteers
DESCRIPTION:As is tradition we will be holding a Thanks and Recognition for our volunteers (all adult volunteers and Young Leaders). This year we will be having a disco and buffet event. \nVenue: York Sports Club\, Clifton Park\, Shipton Road\, York\, YO30 5RE (the function room is accessible via stairs and lift). \nThe venue is on a main bus route in and out of York City Centre\, and has a large car park. \nDate/time: Friday 14th November 7pm – midnight \nCost: £5 per person \nPlease join us for what we hope will be a sociable evening where can catch up with our Guiding friends and have some fun. \nIf you would like to book tickets\, please email Elizabeth our County Administrator Countyadministrator@girlguidingnys.org.uk and send the relevant monies to the county bank account.
URL:https://girlguidingnys.org.uk/event/celebrating-our-adult-volunteers/
LOCATION:Yorkshire
CATEGORIES:Girlguiding North East England
END:VEVENT
BEGIN:VEVENT
DTSTART;VALUE=DATE:20251019
DTEND;VALUE=DATE:20251020
DTSTAMP:20260421T172714
CREATED:20250703T142141Z
LAST-MODIFIED:20250703T142141Z
UID:3590-1760832000-1760918399@girlguidingnys.org.uk
SUMMARY:White Rose House unavailable
DESCRIPTION:
URL:https://girlguidingnys.org.uk/event/white-rose-house-unavailable-28/
LOCATION:White Rose House\, 79 Main Street\, Wheldrake\, Yorkshire\, YO19 6AA\, United Kingdom
CATEGORIES:White Rose
END:VEVENT
BEGIN:VEVENT
DTSTART;TZID=UTC:20251018T100000
DTEND;TZID=UTC:20251018T160000
DTSTAMP:20260421T172714
CREATED:20250213T134117Z
LAST-MODIFIED:20250213T134117Z
UID:3290-1760781600-1760803200@girlguidingnys.org.uk
SUMMARY:First Response training
DESCRIPTION:To book contact countyadministrator@girlguidingnys.org.uk
URL:https://girlguidingnys.org.uk/event/first-response-training-2/
LOCATION:White Rose House\, 79 Main Street\, Wheldrake\, Yorkshire\, YO19 6AA\, United Kingdom
CATEGORIES:Girlguiding North East England
END:VEVENT
BEGIN:VEVENT
DTSTART;TZID=UTC:20251018T100000
DTEND;TZID=UTC:20251018T160000
DTSTAMP:20260421T172714
CREATED:20250213T133943Z
LAST-MODIFIED:20250213T133943Z
UID:3288-1760781600-1760803200@girlguidingnys.org.uk
SUMMARY:White Rose House unavailable FR training
DESCRIPTION:
URL:https://girlguidingnys.org.uk/event/white-rose-house-unavailable-fr-training-2/
LOCATION:White Rose House\, 79 Main Street\, Wheldrake\, Yorkshire\, YO19 6AA\, United Kingdom
CATEGORIES:White Rose
END:VEVENT
BEGIN:VEVENT
DTSTART;VALUE=DATE:20251011
DTEND;VALUE=DATE:20251012
DTSTAMP:20260421T172714
CREATED:20250213T142328Z
LAST-MODIFIED:20250908T193425Z
UID:3308-1760140800-1760227199@girlguidingnys.org.uk
SUMMARY:All section county takeover day
DESCRIPTION:When: Saturday 11th October 2025 \nWhere: Yorkshire Wildlife Park (coach pick up and drop off at Designer Outlet\, York) \nWho: all sections welcome! \nCost: £30 for under 18s\, £15 for adult volunteers – includes ticket to park\, coach seat\, and a badge! \nBookings:  Link here to booking form Please return to countyadministrator@girlguidingnys.org.uk by 12 September 2025
URL:https://girlguidingnys.org.uk/event/all-section-county-takeover-day/
LOCATION:Yorkshire
CATEGORIES:Girlguiding North East England
END:VEVENT
BEGIN:VEVENT
DTSTART;VALUE=DATE:20251010
DTEND;VALUE=DATE:20251013
DTSTAMP:20260421T172714
CREATED:20250703T142102Z
LAST-MODIFIED:20250703T142102Z
UID:3588-1760054400-1760313599@girlguidingnys.org.uk
SUMMARY:White Rose House unavailable
DESCRIPTION:
URL:https://girlguidingnys.org.uk/event/white-rose-house-unavailable-27/
LOCATION:White Rose House\, 79 Main Street\, Wheldrake\, Yorkshire\, YO19 6AA\, United Kingdom
CATEGORIES:White Rose
END:VEVENT
BEGIN:VEVENT
DTSTART;TZID=UTC:20251003T080000
DTEND;TZID=UTC:20251005T170000
DTSTAMP:20260421T172714
CREATED:20250528T162658Z
LAST-MODIFIED:20250528T162658Z
UID:3369-1759478400-1759683600@girlguidingnys.org.uk
SUMMARY:WRH is unavailable
DESCRIPTION:
URL:https://girlguidingnys.org.uk/event/wrh-is-unavailable-4/
LOCATION:White Rose House\, 79 Main Street\, Wheldrake\, Yorkshire\, YO19 6AA\, United Kingdom
CATEGORIES:White Rose
END:VEVENT
BEGIN:VEVENT
DTSTART;VALUE=DATE:20250919
DTEND;VALUE=DATE:20250922
DTSTAMP:20260421T172714
CREATED:20250703T141949Z
LAST-MODIFIED:20250703T141949Z
UID:3586-1758240000-1758499199@girlguidingnys.org.uk
SUMMARY:White Rose House unavailable
DESCRIPTION:
URL:https://girlguidingnys.org.uk/event/white-rose-house-unavailable-26/
LOCATION:White Rose House\, 79 Main Street\, Wheldrake\, Yorkshire\, YO19 6AA\, United Kingdom
CATEGORIES:White Rose
END:VEVENT
BEGIN:VEVENT
DTSTART;TZID=UTC:20250918T190000
DTEND;TZID=UTC:20250918T210000
DTSTAMP:20260421T172714
CREATED:20250213T110017Z
LAST-MODIFIED:20250213T110017Z
UID:3286-1758222000-1758229200@girlguidingnys.org.uk
SUMMARY:First Response blending training module 3
DESCRIPTION:To book contact countyadministrator@girlguidingnys.org.uk
URL:https://girlguidingnys.org.uk/event/first-response-blending-training-module-3/
LOCATION:Zoom
CATEGORIES:Girlguiding North East England
END:VEVENT
BEGIN:VEVENT
DTSTART;TZID=UTC:20250913T080000
DTEND;TZID=UTC:20250914T123000
DTSTAMP:20260421T172714
CREATED:20250319T145324Z
LAST-MODIFIED:20250526T150126Z
UID:3317-1757750400-1757853000@girlguidingnys.org.uk
SUMMARY:WRH unavailable
DESCRIPTION:
URL:https://girlguidingnys.org.uk/event/wrh-unavailable-5/
LOCATION:White Rose House\, 79 Main Street\, Wheldrake\, Yorkshire\, YO19 6AA\, United Kingdom
CATEGORIES:White Rose
END:VEVENT
BEGIN:VEVENT
DTSTART;TZID=UTC:20250913T080000
DTEND;TZID=UTC:20250914T123000
DTSTAMP:20260421T172714
CREATED:20250319T141552Z
LAST-MODIFIED:20251008T150727Z
UID:3315-1757750400-1757853000@girlguidingnys.org.uk
SUMMARY:WRH unavailable
DESCRIPTION:
URL:https://girlguidingnys.org.uk/event/wrh-unavailable-3/
LOCATION:White Rose House\, 79 Main Street\, Wheldrake\, Yorkshire\, YO19 6AA\, United Kingdom
CATEGORIES:Girlguiding North East England,White Rose
END:VEVENT
BEGIN:VEVENT
DTSTART;TZID=UTC:20250912T080000
DTEND;TZID=UTC:20250914T170000
DTSTAMP:20260421T172714
CREATED:20250528T162610Z
LAST-MODIFIED:20250528T162610Z
UID:3367-1757664000-1757869200@girlguidingnys.org.uk
SUMMARY:WRH is unavailable
DESCRIPTION:
URL:https://girlguidingnys.org.uk/event/wrh-is-unavailable-3/
LOCATION:White Rose House\, 79 Main Street\, Wheldrake\, Yorkshire\, YO19 6AA\, United Kingdom
CATEGORIES:White Rose
END:VEVENT
BEGIN:VEVENT
DTSTART;TZID=UTC:20250911T190000
DTEND;TZID=UTC:20250911T210000
DTSTAMP:20260421T172714
CREATED:20250213T105906Z
LAST-MODIFIED:20250213T133353Z
UID:3284-1757617200-1757624400@girlguidingnys.org.uk
SUMMARY:First Response blended training module 2
DESCRIPTION:To book contact countyadministrator@girlguidingnys.org.uk
URL:https://girlguidingnys.org.uk/event/first-response-blended-training-module-2/
LOCATION:Zoom
CATEGORIES:Girlguiding North East England
END:VEVENT
BEGIN:VEVENT
DTSTART;TZID=UTC:20250904T190000
DTEND;TZID=UTC:20250904T210000
DTSTAMP:20260421T172714
CREATED:20250213T105751Z
LAST-MODIFIED:20250213T133431Z
UID:3282-1757012400-1757019600@girlguidingnys.org.uk
SUMMARY:First Response blended training module 1
DESCRIPTION:To book contact countyadministrator@girlguidingnys.org.uk
URL:https://girlguidingnys.org.uk/event/first-response-blended-training-module-1/
LOCATION:NEE Region Office\, 7 Alpha Court\, Monks Cross Drive\, York\, YO32 9WN\, United Kingdom
CATEGORIES:Girlguiding North East England
END:VEVENT
BEGIN:VEVENT
DTSTART;TZID=UTC:20250829T080000
DTEND;TZID=UTC:20250829T170000
DTSTAMP:20260421T172714
CREATED:20250528T162456Z
LAST-MODIFIED:20250528T162456Z
UID:3365-1756454400-1756486800@girlguidingnys.org.uk
SUMMARY:WRH is unavailable
DESCRIPTION:
URL:https://girlguidingnys.org.uk/event/wrh-is-unavailable-2/
LOCATION:White Rose House\, 79 Main Street\, Wheldrake\, Yorkshire\, YO19 6AA\, United Kingdom
CATEGORIES:White Rose
END:VEVENT
BEGIN:VEVENT
DTSTART;VALUE=DATE:20250829
DTEND;VALUE=DATE:20250901
DTSTAMP:20260421T172714
CREATED:20250703T130016Z
LAST-MODIFIED:20250703T130103Z
UID:3584-1756425600-1756684799@girlguidingnys.org.uk
SUMMARY:White Rose House unavailable
DESCRIPTION:
URL:https://girlguidingnys.org.uk/event/white-rose-house-unavailable-25/
LOCATION:White Rose House\, 79 Main Street\, Wheldrake\, Yorkshire\, YO19 6AA\, United Kingdom
CATEGORIES:White Rose
END:VEVENT
BEGIN:VEVENT
DTSTART;TZID=UTC:20250705T100000
DTEND;TZID=UTC:20250705T160000
DTSTAMP:20260421T172714
CREATED:20250213T105328Z
LAST-MODIFIED:20250213T105609Z
UID:3278-1751709600-1751731200@girlguidingnys.org.uk
SUMMARY:First Response training Joint NYS/EY
DESCRIPTION:To book a place contact countyadministrator@girlguidingnys.org.uk
URL:https://girlguidingnys.org.uk/event/first-response-training-joint-nys-ey/
LOCATION:Howden Scout and Guide HQ\, Station Rd\, Howden\, Goole\, DN14 7AF\, United Kingdom
CATEGORIES:Girlguiding North East England
END:VEVENT
BEGIN:VEVENT
DTSTART;TZID=UTC:20250704T180000
DTEND;TZID=UTC:20250704T210000
DTSTAMP:20260421T172714
CREATED:20250213T142233Z
LAST-MODIFIED:20250612T161139Z
UID:3306-1751652000-1751662800@girlguidingnys.org.uk
SUMMARY:Celebrating every member 2025
DESCRIPTION:By invitation only – Friday 4th July 2025 \nYoung members and adult volunteers who have demonstrated exceptional achievements across the 2024/25 academic year are invited to celebrate these achievements at our inaugural “Celebrating Every Member” event. \nThose who will be recognised may have achieved their section Gold award\, completed an adult qualification\, or have been recognised within the academic year for exceptional service to Girlguiding North Yorkshire South. \nSession 1 (Rainbows & Brownies awards): Arrive 6pm for 6.30pm start (scheduled to finish at approximately 7.30pm) \nSession 2 (Guides\, Rangers & Volunteers awards): Arrive 7:45pm for 8pm start (scheduled to finish at approximately 9pm)
URL:https://girlguidingnys.org.uk/event/celebrating-every-member-2025/
LOCATION:Askham Bryan College Conference Centre\, Askham Bryan Colleage\, Askham Bryan\, York\, YO23 3FR\, United Kingdom
CATEGORIES:Free,Girlguiding North Yorkshire South
END:VEVENT
END:VCALENDAR