BEGIN:VCALENDAR
VERSION:2.0
PRODID:-//GGNYS - ECPv6.15.17.1//NONSGML v1.0//EN
CALSCALE:GREGORIAN
METHOD:PUBLISH
X-WR-CALNAME:GGNYS
X-ORIGINAL-URL:https://girlguidingnys.org.uk
X-WR-CALDESC:Events for GGNYS
REFRESH-INTERVAL;VALUE=DURATION:PT1H
X-Robots-Tag:noindex
X-PUBLISHED-TTL:PT1H
BEGIN:VTIMEZONE
TZID:UTC
BEGIN:STANDARD
TZOFFSETFROM:+0000
TZOFFSETTO:+0000
TZNAME:UTC
DTSTART:20250101T000000
END:STANDARD
END:VTIMEZONE
BEGIN:VEVENT
DTSTART;TZID=UTC:20260307T100000
DTEND;TZID=UTC:20260307T160000
DTSTAMP:20260421T154456
CREATED:20251008T152856Z
LAST-MODIFIED:20251008T153612Z
UID:3637-1772877600-1772899200@girlguidingnys.org.uk
SUMMARY:First response training
DESCRIPTION:To book email Elizabeth countyadministrator@girlguidingnys.org.uk
URL:https://girlguidingnys.org.uk/event/first-response-training-4/
LOCATION:NEE Region Office\, 7 Alpha Court\, Monks Cross Drive\, York\, YO32 9WN\, United Kingdom
CATEGORIES:Girlguiding North East England
END:VEVENT
BEGIN:VEVENT
DTSTART;TZID=UTC:20260312T150000
DTEND;TZID=UTC:20260312T170000
DTSTAMP:20260421T154456
CREATED:20260225T144727Z
LAST-MODIFIED:20260225T144734Z
UID:3688-1773327600-1773334800@girlguidingnys.org.uk
SUMMARY:White Rose House unavailable
DESCRIPTION:
URL:https://girlguidingnys.org.uk/event/white-rose-house-unavailable-34/
LOCATION:White Rose House\, 79 Main Street\, Wheldrake\, Yorkshire\, YO19 6AA\, United Kingdom
CATEGORIES:White Rose
END:VEVENT
BEGIN:VEVENT
DTSTART;TZID=UTC:20260319T150000
DTEND;TZID=UTC:20260319T170000
DTSTAMP:20260421T154456
CREATED:20260225T144529Z
LAST-MODIFIED:20260225T144633Z
UID:3686-1773932400-1773939600@girlguidingnys.org.uk
SUMMARY:White Rose House unavailable
DESCRIPTION:
URL:https://girlguidingnys.org.uk/event/white-rose-house-unavailable-33/
LOCATION:White Rose House\, 79 Main Street\, Wheldrake\, Yorkshire\, YO19 6AA\, United Kingdom
CATEGORIES:White Rose
END:VEVENT
BEGIN:VEVENT
DTSTART;TZID=UTC:20260320T080000
DTEND;TZID=UTC:20260322T170000
DTSTAMP:20260421T154456
CREATED:20250703T142505Z
LAST-MODIFIED:20250703T142505Z
UID:3596-1773993600-1774198800@girlguidingnys.org.uk
SUMMARY:White Rose House unavailable
DESCRIPTION:
URL:https://girlguidingnys.org.uk/event/white-rose-house-unavailable-31/
LOCATION:White Rose House\, 79 Main Street\, Wheldrake\, Yorkshire\, YO19 6AA\, United Kingdom
CATEGORIES:White Rose
END:VEVENT
BEGIN:VEVENT
DTSTART;TZID=UTC:20260325T100000
DTEND;TZID=UTC:20260325T120000
DTSTAMP:20260421T154456
CREATED:20260225T144957Z
LAST-MODIFIED:20260225T144957Z
UID:3690-1774432800-1774440000@girlguidingnys.org.uk
SUMMARY:White Rose House unavailable
DESCRIPTION:
URL:https://girlguidingnys.org.uk/event/white-rose-house-unavailable-35/
LOCATION:White Rose House\, 79 Main Street\, Wheldrake\, Yorkshire\, YO19 6AA\, United Kingdom
CATEGORIES:White Rose
END:VEVENT
BEGIN:VEVENT
DTSTART;TZID=UTC:20260325T130000
DTEND;TZID=UTC:20260325T170000
DTSTAMP:20260421T154456
CREATED:20260225T145100Z
LAST-MODIFIED:20260225T145100Z
UID:3692-1774443600-1774458000@girlguidingnys.org.uk
SUMMARY:White Rose House unavailable
DESCRIPTION:
URL:https://girlguidingnys.org.uk/event/white-rose-house-unavailable-36/
LOCATION:White Rose House\, 79 Main Street\, Wheldrake\, Yorkshire\, YO19 6AA\, United Kingdom
CATEGORIES:White Rose
END:VEVENT
BEGIN:VEVENT
DTSTART;TZID=UTC:20260327T180000
DTEND;TZID=UTC:20260327T220000
DTSTAMP:20260421T154456
CREATED:20260325T092947Z
LAST-MODIFIED:20260325T092947Z
UID:3719-1774634400-1774648800@girlguidingnys.org.uk
SUMMARY:White Rose house unavailable
DESCRIPTION:
URL:https://girlguidingnys.org.uk/event/white-rose-house-unavailable-44/
LOCATION:White Rose House\, 79 Main Street\, Wheldrake\, Yorkshire\, YO19 6AA\, United Kingdom
CATEGORIES:Girlguiding North Yorkshire South,White Rose
END:VEVENT
BEGIN:VEVENT
DTSTART;VALUE=DATE:20260328
DTEND;VALUE=DATE:20260329
DTSTAMP:20260421T154456
CREATED:20260225T145213Z
LAST-MODIFIED:20260225T145220Z
UID:3694-1774656000-1774742399@girlguidingnys.org.uk
SUMMARY:White Rose House unavailable
DESCRIPTION:
URL:https://girlguidingnys.org.uk/event/white-rose-house-unavailable-37/
LOCATION:White Rose House\, 79 Main Street\, Wheldrake\, Yorkshire\, YO19 6AA\, United Kingdom
CATEGORIES:White Rose
END:VEVENT
BEGIN:VEVENT
DTSTART;TZID=UTC:20260406T080000
DTEND;TZID=UTC:20260407T170000
DTSTAMP:20260421T154456
CREATED:20260225T145353Z
LAST-MODIFIED:20260225T145353Z
UID:3696-1775462400-1775581200@girlguidingnys.org.uk
SUMMARY:White Rose House unavailable
DESCRIPTION:
URL:https://girlguidingnys.org.uk/event/white-rose-house-unavailable-38/
LOCATION:White Rose House\, 79 Main Street\, Wheldrake\, Yorkshire\, YO19 6AA\, United Kingdom
CATEGORIES:White Rose
END:VEVENT
BEGIN:VEVENT
DTSTART;TZID=UTC:20260421T110000
DTEND;TZID=UTC:20260421T150000
DTSTAMP:20260421T154456
CREATED:20260225T145538Z
LAST-MODIFIED:20260225T145538Z
UID:3698-1776769200-1776783600@girlguidingnys.org.uk
SUMMARY:White Rose House unavailable
DESCRIPTION:
URL:https://girlguidingnys.org.uk/event/white-rose-house-unavailable-39/
LOCATION:White Rose House\, 79 Main Street\, Wheldrake\, Yorkshire\, YO19 6AA\, United Kingdom
CATEGORIES:White Rose
END:VEVENT
BEGIN:VEVENT
DTSTART;TZID=UTC:20260509T100000
DTEND;TZID=UTC:20260509T160000
DTSTAMP:20260421T154456
CREATED:20251008T153032Z
LAST-MODIFIED:20251008T153706Z
UID:3639-1778320800-1778342400@girlguidingnys.org.uk
SUMMARY:First response training
DESCRIPTION:To book email Elizabeth countyadministrator@girlguidingnys.org.uk
URL:https://girlguidingnys.org.uk/event/first-response-training-5/
LOCATION:NEE Region Office\, 7 Alpha Court\, Monks Cross Drive\, York\, YO32 9WN\, United Kingdom
CATEGORIES:Girlguiding North East England
END:VEVENT
BEGIN:VEVENT
DTSTART;TZID=UTC:20260516T163000
DTEND;TZID=UTC:20260517T150000
DTSTAMP:20260421T154456
CREATED:20260225T145735Z
LAST-MODIFIED:20260225T145735Z
UID:3700-1778949000-1779030000@girlguidingnys.org.uk
SUMMARY:White Rose House unavailable
DESCRIPTION:
URL:https://girlguidingnys.org.uk/event/white-rose-house-unavailable-40/
LOCATION:White Rose House\, 79 Main Street\, Wheldrake\, Yorkshire\, YO19 6AA\, United Kingdom
CATEGORIES:White Rose
END:VEVENT
BEGIN:VEVENT
DTSTART;VALUE=DATE:20260528
DTEND;VALUE=DATE:20260601
DTSTAMP:20260421T154456
CREATED:20250908T193123Z
LAST-MODIFIED:20250908T193123Z
UID:3615-1779926400-1780271999@girlguidingnys.org.uk
SUMMARY:NYS Fest - County Camp 2026
DESCRIPTION:We are hosting a County Camp at Snowball Plantation. This event will be open to Guides\, Rangers\, Young Leaders and their Leaders. \nWe are hoping to work with the Royal Navy\, as well as other exciting external partners\, to put on activities for the camp
URL:https://girlguidingnys.org.uk/event/nys-fest-county-camp-2026/
LOCATION:Yorkshire
CATEGORIES:Girlguiding North Yorkshire South,Paid
END:VEVENT
BEGIN:VEVENT
DTSTART;VALUE=DATE:20260627
DTEND;VALUE=DATE:20260628
DTSTAMP:20260421T154456
CREATED:20250908T193214Z
LAST-MODIFIED:20250908T193214Z
UID:3617-1782518400-1782604799@girlguidingnys.org.uk
SUMMARY:Brownie Fest Day
DESCRIPTION:We are hosting a Brownie day with a festival theme. Venue to be confirmed.
URL:https://girlguidingnys.org.uk/event/brownie-fest-day/
LOCATION:Yorkshire
CATEGORIES:Girlguiding North Yorkshire South,Paid
END:VEVENT
BEGIN:VEVENT
DTSTART;VALUE=DATE:20260703
DTEND;VALUE=DATE:20260704
DTSTAMP:20260421T154456
CREATED:20260225T145924Z
LAST-MODIFIED:20260225T145924Z
UID:3702-1783036800-1783123199@girlguidingnys.org.uk
SUMMARY:White Rose House unavailable
DESCRIPTION:
URL:https://girlguidingnys.org.uk/event/white-rose-house-unavailable-41/
LOCATION:White Rose House\, 79 Main Street\, Wheldrake\, Yorkshire\, YO19 6AA\, United Kingdom
CATEGORIES:White Rose
END:VEVENT
BEGIN:VEVENT
DTSTART;VALUE=DATE:20260711
DTEND;VALUE=DATE:20260712
DTSTAMP:20260421T154456
CREATED:20260225T150010Z
LAST-MODIFIED:20260225T150010Z
UID:3704-1783728000-1783814399@girlguidingnys.org.uk
SUMMARY:White Rose House unavailable
DESCRIPTION:
URL:https://girlguidingnys.org.uk/event/white-rose-house-unavailable-42/
LOCATION:White Rose House\, 79 Main Street\, Wheldrake\, Yorkshire\, YO19 6AA\, United Kingdom
CATEGORIES:White Rose
END:VEVENT
BEGIN:VEVENT
DTSTART;TZID=UTC:20260919T093000
DTEND;TZID=UTC:20260919T170000
DTSTAMP:20260421T154456
CREATED:20260225T150126Z
LAST-MODIFIED:20260225T150126Z
UID:3706-1789810200-1789837200@girlguidingnys.org.uk
SUMMARY:White Rose House unavailable
DESCRIPTION:
URL:https://girlguidingnys.org.uk/event/white-rose-house-unavailable-43/
LOCATION:White Rose House\, 79 Main Street\, Wheldrake\, Yorkshire\, YO19 6AA\, United Kingdom
CATEGORIES:White Rose
END:VEVENT
BEGIN:VEVENT
DTSTART;TZID=UTC:20260919T100000
DTEND;TZID=UTC:20260919T160000
DTSTAMP:20260421T154456
CREATED:20251008T153141Z
LAST-MODIFIED:20251008T154157Z
UID:3641-1789812000-1789833600@girlguidingnys.org.uk
SUMMARY:First response training
DESCRIPTION:To book email Elizabeth countyadministrator@girlguidingnys.org.uk
URL:https://girlguidingnys.org.uk/event/first-response-training-6/
LOCATION:White Rose House\, 79 Main Street\, Wheldrake\, Yorkshire\, YO19 6AA\, United Kingdom
CATEGORIES:Girlguiding North East England
END:VEVENT
BEGIN:VEVENT
DTSTART;TZID=UTC:20261114T100000
DTEND;TZID=UTC:20261114T160000
DTSTAMP:20260421T154456
CREATED:20251008T153257Z
LAST-MODIFIED:20251008T153257Z
UID:3643-1794650400-1794672000@girlguidingnys.org.uk
SUMMARY:First response training
DESCRIPTION:To book contact Elizabeth counytadministrator@girlguidingnys.org.uk
URL:https://girlguidingnys.org.uk/event/first-response-training-7/
LOCATION:NEE Region Office\, 7 Alpha Court\, Monks Cross Drive\, York\, YO32 9WN\, United Kingdom
CATEGORIES:Girlguiding North East England
END:VEVENT
END:VCALENDAR