BEGIN:VCALENDAR
VERSION:2.0
PRODID:-//GGNYS - ECPv6.15.17.1//NONSGML v1.0//EN
CALSCALE:GREGORIAN
METHOD:PUBLISH
X-WR-CALNAME:GGNYS
X-ORIGINAL-URL:https://girlguidingnys.org.uk
X-WR-CALDESC:Events for GGNYS
REFRESH-INTERVAL;VALUE=DURATION:PT1H
X-Robots-Tag:noindex
X-PUBLISHED-TTL:PT1H
BEGIN:VTIMEZONE
TZID:UTC
BEGIN:STANDARD
TZOFFSETFROM:+0000
TZOFFSETTO:+0000
TZNAME:UTC
DTSTART:20210101T000000
END:STANDARD
END:VTIMEZONE
BEGIN:VEVENT
DTSTART;TZID=UTC:20221129T183000
DTEND;TZID=UTC:20221129T213000
DTSTAMP:20260424T110422
CREATED:20221012T074451Z
LAST-MODIFIED:20221115T112749Z
UID:1642-1669746600-1669757400@girlguidingnys.org.uk
SUMMARY:A Safe Space Level 3 - 29th Nov Webinar
DESCRIPTION:A Safe Space training covers all you need to know about safety and safeguarding at Girlguiding. Level 3 will help you to apply everything you learnt in A Safe Space Levels 1 and 2 to your volunteer roles. You’ll continue developing skills to manage risk\, create a safe space and be confident in reporting concerns\, allegations and disclosures. This level is for anyone leading a team of adults and at least one leader per unit (leader\, assistant leader\, leader in training). We recommend that all leaders complete this level.  Mentors\, advisers\, coordinators (except GO coordinators)\, licence holders on residentials\, trainers\, tutors and those doing level 4 will also need to complete this course. This is an online webinar run by North East England\, please follow the link to sign up on the Learning Platform. \n  \nEvent Website – https://learning.girlguiding.org.uk
URL:https://girlguidingnys.org.uk/event/a-safe-space-level-3-29th-nov-webinar/
LOCATION:Yorkshire
CATEGORIES:Girlguiding North East England
ATTACH;FMTTYPE=image/jpeg:https://girlguidingnys.org.uk/wp-content/uploads/2022/05/coffee-g7718ad6ae_1920.jpg
END:VEVENT
BEGIN:VEVENT
DTSTART;TZID=UTC:20221127T140000
DTEND;TZID=UTC:20221127T170000
DTSTAMP:20260424T110422
CREATED:20221012T074556Z
LAST-MODIFIED:20221115T112646Z
UID:1644-1669557600-1669568400@girlguidingnys.org.uk
SUMMARY:A Safe Space Level 3 - 27th Nov Webinar
DESCRIPTION:A Safe Space training covers all you need to know about safety and safeguarding at Girlguiding. Level 3 will help you to apply everything you learnt in A Safe Space Levels 1 and 2 to your volunteer roles. You’ll continue developing skills to manage risk\, create a safe space and be confident in reporting concerns\, allegations and disclosures. This level is for anyone leading a team of adults and at least one leader per unit (leader\, assistant leader\, leader in training). We recommend that all leaders complete this level.  Mentors\, advisers\, coordinators (except GO coordinators)\, licence holders on residentials\, trainers\, tutors and those doing level 4 will also need to complete this course. This is an online webinar run by North East England\, please follow the link to sign up on the Learning Platform. \n  \nEvent Website – https://learning.girlguiding.org.uk
URL:https://girlguidingnys.org.uk/event/a-safe-space-level-3-27th-nov-webinar/
LOCATION:Yorkshire
CATEGORIES:Girlguiding North East England
ATTACH;FMTTYPE=image/jpeg:https://girlguidingnys.org.uk/wp-content/uploads/2022/05/coffee-g7718ad6ae_1920.jpg
END:VEVENT
BEGIN:VEVENT
DTSTART;VALUE=DATE:20221126
DTEND;VALUE=DATE:20221128
DTSTAMP:20260424T110422
CREATED:20220626T185854Z
LAST-MODIFIED:20220626T185854Z
UID:793-1669420800-1669593599@girlguidingnys.org.uk
SUMMARY:Sparkle and Ice 2022
DESCRIPTION:Our extreme winter camp for Guides and Rangers. Take on survival challenges in winter weather. Being held at Waddow Hall\, Foxlease\, Glenbrook and Blackland Farm.
URL:https://girlguidingnys.org.uk/event/sparkle-and-ice-2022/
LOCATION:Waddow Hall\, Waddington Road\, Clitheroe\, Lancashire\, BB7 3LD\, United Kingdom
CATEGORIES:Girlguiding UK Event
ATTACH;FMTTYPE=image/jpeg:https://girlguidingnys.org.uk/wp-content/uploads/2022/06/campfire-2381451_1920.jpg
END:VEVENT
BEGIN:VEVENT
DTSTART;TZID=UTC:20221120T140000
DTEND;TZID=UTC:20221120T170000
DTSTAMP:20260424T110422
CREATED:20221012T074703Z
LAST-MODIFIED:20221115T112530Z
UID:1646-1668952800-1668963600@girlguidingnys.org.uk
SUMMARY:A Safe Space Level 3 - 22nd Nov Webinar
DESCRIPTION:A Safe Space training covers all you need to know about safety and safeguarding at Girlguiding. Level 3 will help you to apply everything you learnt in A Safe Space Levels 1 and 2 to your volunteer roles. You’ll continue developing skills to manage risk\, create a safe space and be confident in reporting concerns\, allegations and disclosures. This level is for anyone leading a team of adults and at least one leader per unit (leader\, assistant leader\, leader in training). We recommend that all leaders complete this level.  Mentors\, advisers\, coordinators (except GO coordinators)\, licence holders on residentials\, trainers\, tutors and those doing level 4 will also need to complete this course. This is an online webinar run by North East England\, please follow the link to sign up on the Learning Platform. \n  \nEvent Website – https://learning.girlguiding.org.uk
URL:https://girlguidingnys.org.uk/event/a-safe-space-level-3-22nd-nov-webinar/
LOCATION:Yorkshire
CATEGORIES:Girlguiding North East England
ATTACH;FMTTYPE=image/jpeg:https://girlguidingnys.org.uk/wp-content/uploads/2022/05/coffee-g7718ad6ae_1920.jpg
END:VEVENT
BEGIN:VEVENT
DTSTART;VALUE=DATE:20221009
DTEND;VALUE=DATE:20221015
DTSTAMP:20260424T110422
CREATED:20220626T190811Z
LAST-MODIFIED:20220806T100912Z
UID:799-1665273600-1665791999@girlguidingnys.org.uk
SUMMARY:Global Friendship Week 2022 Event
DESCRIPTION:A five-night opportunity for all members aged 18 and over to come together in the sisterhood of Guiding at an international World Centre.
URL:https://girlguidingnys.org.uk/event/global-friendship-week-2022-event/
LOCATION:Pax Lodge\, 12c Lyndhurst Road\, London\, NW3 5PQ\, United Kingdom
CATEGORIES:WAGGGS Event
ATTACH;FMTTYPE=image/jpeg:https://girlguidingnys.org.uk/wp-content/uploads/2022/06/team-4529717_1920.jpg
END:VEVENT
BEGIN:VEVENT
DTSTART;TZID=UTC:20221001T100000
DTEND;TZID=UTC:20221001T160000
DTSTAMP:20260424T110422
CREATED:20220901T060144Z
LAST-MODIFIED:20220901T060144Z
UID:1403-1664618400-1664640000@girlguidingnys.org.uk
SUMMARY:County Training Day Oct 2022
DESCRIPTION:A fun and informative full or half day for all volunteers (including Young Leaders and External Volunteers). Being held at Haxby & Wigginton Methodist Church\, the event will run from 10am – 4pm and include programme training\, wellbeing sessions\, adult crafts and an opportunity to meet the advisers. \nThere is a cost of £5 per person for this event\, which is a legitimate unit expense that can be reclaimed. To reserve a place and receive further information\, send the following to elizabeth.greenaway@girlguidingnortheast.org.uk: \n\nName\nRole\nWhich programme session you would like to attend (morning only) from Rainbows\, Brownies\, Guides and Rangers or Administration.
URL:https://girlguidingnys.org.uk/event/county-training-day-oct-2022/
LOCATION:Haxby Methodist Church\, Haxby Methodist Church\, York\, North Yorkshire\, YO32 2JJ\, United Kingdom
CATEGORIES:Paid via Office
ATTACH;FMTTYPE=image/jpeg:https://girlguidingnys.org.uk/wp-content/uploads/2022/09/school-supplies-3033204.jpg
END:VEVENT
BEGIN:VEVENT
DTSTART;TZID=UTC:20220925T140000
DTEND;TZID=UTC:20220925T171500
DTSTAMP:20260424T110422
CREATED:20220814T083957Z
LAST-MODIFIED:20220814T084429Z
UID:1219-1664114400-1664126100@girlguidingnys.org.uk
SUMMARY:A Safe Space Level 3 - 25th Sept Webinar
DESCRIPTION:A Safe Space training covers all you need to know about safety and safeguarding at Girlguiding. Level 3 will help you to apply everything you learnt in A Safe Space Levels 1 and 2 to your volunteer roles. You’ll continue developing skills to manage risk\, create a safe space and be confident in reporting concerns\, allegations and disclosures. This level is for anyone leading a team of adults and at least one leader per unit (leader\, assistant leader\, leader in training). We recommend that  all leaders complete this level.  Mentors\, advisers\, coordinators (except GO coordinators)\, licence holders on residentials\, trainers\, tutors and those doing level 4 will also need to complete this course. This is an online webinar run by North East England\, please follow the link to sign up on the Learning Platform.
URL:https://girlguidingnys.org.uk/event/a-safe-space-level-3-25th-sept-webinar/
LOCATION:Yorkshire
CATEGORIES:Girlguiding North East England
ATTACH;FMTTYPE=image/jpeg:https://girlguidingnys.org.uk/wp-content/uploads/2022/05/coffee-g7718ad6ae_1920.jpg
END:VEVENT
BEGIN:VEVENT
DTSTART;TZID=UTC:20220920T183000
DTEND;TZID=UTC:20220920T214500
DTSTAMP:20260424T110422
CREATED:20220806T093210Z
LAST-MODIFIED:20220824T144219Z
UID:1092-1663698600-1663710300@girlguidingnys.org.uk
SUMMARY:A Safe Space Level 3 - 20th Sept Webinar
DESCRIPTION:A Safe Space training covers all you need to know about safety and safeguarding at Girlguiding. Level 3  will help you to apply everything you learnt in A Safe Space Levels 1 and 2 to your volunteer roles. You’ll continue developing skills to manage risk\, create a safe space and be confident in reporting concerns\, allegations and disclosures. This level is for anyone leading a team of adults and at least one leader per unit (leader\, assistant leader\, leader in training). We recommend that  all leaders complete this level.  Mentors\, advisers\, coordinators (except GO coordinators)\, licence holders on residentials\, trainers\, tutors and those doing level 4 will also need to complete this course. This is an online webinar run by North East England\, please follow the link to sign up on the Learning Platform.
URL:https://girlguidingnys.org.uk/event/a-safe-space-level-3-20-sept/
LOCATION:Yorkshire
CATEGORIES:Girlguiding North East England
ATTACH;FMTTYPE=image/jpeg:https://girlguidingnys.org.uk/wp-content/uploads/2022/05/coffee-g7718ad6ae_1920.jpg
END:VEVENT
BEGIN:VEVENT
DTSTART;TZID=UTC:20220716T123000
DTEND;TZID=UTC:20220716T163000
DTSTAMP:20260424T110422
CREATED:20220630T112655Z
LAST-MODIFIED:20220630T112655Z
UID:820-1657974600-1657989000@girlguidingnys.org.uk
SUMMARY:Annual Thanks & Recognition Event 2022
DESCRIPTION:We are very excited that The Grand in York have agreed to host this year’s T&R event.  The hotel will be serving their amazing award-winning afternoon tea; in support of our organisation they have given a substantial discount. Please come and join us for afternoon tea at The Grand for a fraction of the usual cost. \nWe can’t wait to welcome all our amazing volunteers; we really would like you to celebrate with us.  Without the time\, energy\, and commitment you give\, our members would not otherwise have the opportunities\, experiences\, and adventures Girlguiding North Yorkshire South offers.\nWe have an amazing guest speaker\, the York Civic party and other invited guests joining us on the day.
URL:https://girlguidingnys.org.uk/event/annual-thanks-recognition-event-2022/
LOCATION:The Grand\, Station Rise\, York\, The Grand\, Station Rise\, York\, YO1 6GD\, United Kingdom
CATEGORIES:Paid
END:VEVENT
END:VCALENDAR