BEGIN:VCALENDAR
VERSION:2.0
PRODID:-//GGNYS - ECPv6.15.17.1//NONSGML v1.0//EN
CALSCALE:GREGORIAN
METHOD:PUBLISH
X-ORIGINAL-URL:https://girlguidingnys.org.uk
X-WR-CALDESC:Events for GGNYS
REFRESH-INTERVAL;VALUE=DURATION:PT1H
X-Robots-Tag:noindex
X-PUBLISHED-TTL:PT1H
BEGIN:VTIMEZONE
TZID:UTC
BEGIN:STANDARD
TZOFFSETFROM:+0000
TZOFFSETTO:+0000
TZNAME:UTC
DTSTART:20250101T000000
END:STANDARD
END:VTIMEZONE
BEGIN:VEVENT
DTSTART;TZID=UTC:20261114T100000
DTEND;TZID=UTC:20261114T160000
DTSTAMP:20260421T172814
CREATED:20251008T153257Z
LAST-MODIFIED:20251008T153257Z
UID:3643-1794650400-1794672000@girlguidingnys.org.uk
SUMMARY:First response training
DESCRIPTION:To book contact Elizabeth counytadministrator@girlguidingnys.org.uk
URL:https://girlguidingnys.org.uk/event/first-response-training-7/
LOCATION:NEE Region Office\, 7 Alpha Court\, Monks Cross Drive\, York\, YO32 9WN\, United Kingdom
CATEGORIES:Girlguiding North East England
END:VEVENT
END:VCALENDAR