BEGIN:VCALENDAR
VERSION:2.0
PRODID:-//GGNYS - ECPv6.15.17.1//NONSGML v1.0//EN
CALSCALE:GREGORIAN
METHOD:PUBLISH
X-WR-CALNAME:GGNYS
X-ORIGINAL-URL:https://girlguidingnys.org.uk
X-WR-CALDESC:Events for GGNYS
REFRESH-INTERVAL;VALUE=DURATION:PT1H
X-Robots-Tag:noindex
X-PUBLISHED-TTL:PT1H
BEGIN:VTIMEZONE
TZID:UTC
BEGIN:STANDARD
TZOFFSETFROM:+0000
TZOFFSETTO:+0000
TZNAME:UTC
DTSTART:20230101T000000
END:STANDARD
END:VTIMEZONE
BEGIN:VEVENT
DTSTART;TZID=UTC:20250705T100000
DTEND;TZID=UTC:20250705T160000
DTSTAMP:20260422T005416
CREATED:20250213T105328Z
LAST-MODIFIED:20250213T105609Z
UID:3278-1751709600-1751731200@girlguidingnys.org.uk
SUMMARY:First Response training Joint NYS/EY
DESCRIPTION:To book a place contact countyadministrator@girlguidingnys.org.uk
URL:https://girlguidingnys.org.uk/event/first-response-training-joint-nys-ey/
LOCATION:Howden Scout and Guide HQ\, Station Rd\, Howden\, Goole\, DN14 7AF\, United Kingdom
CATEGORIES:Girlguiding North East England
END:VEVENT
BEGIN:VEVENT
DTSTART;TZID=UTC:20250704T180000
DTEND;TZID=UTC:20250704T210000
DTSTAMP:20260422T005416
CREATED:20250213T142233Z
LAST-MODIFIED:20250612T161139Z
UID:3306-1751652000-1751662800@girlguidingnys.org.uk
SUMMARY:Celebrating every member 2025
DESCRIPTION:By invitation only – Friday 4th July 2025 \nYoung members and adult volunteers who have demonstrated exceptional achievements across the 2024/25 academic year are invited to celebrate these achievements at our inaugural “Celebrating Every Member” event. \nThose who will be recognised may have achieved their section Gold award\, completed an adult qualification\, or have been recognised within the academic year for exceptional service to Girlguiding North Yorkshire South. \nSession 1 (Rainbows & Brownies awards): Arrive 6pm for 6.30pm start (scheduled to finish at approximately 7.30pm) \nSession 2 (Guides\, Rangers & Volunteers awards): Arrive 7:45pm for 8pm start (scheduled to finish at approximately 9pm)
URL:https://girlguidingnys.org.uk/event/celebrating-every-member-2025/
LOCATION:Askham Bryan College Conference Centre\, Askham Bryan Colleage\, Askham Bryan\, York\, YO23 3FR\, United Kingdom
CATEGORIES:Free,Girlguiding North Yorkshire South
END:VEVENT
BEGIN:VEVENT
DTSTART;VALUE=DATE:20250704
DTEND;VALUE=DATE:20250707
DTSTAMP:20260422T005416
CREATED:20250212T151328Z
LAST-MODIFIED:20250212T151328Z
UID:3273-1751587200-1751846399@girlguidingnys.org.uk
SUMMARY:White Rose House unavailable
DESCRIPTION:
URL:https://girlguidingnys.org.uk/event/white-rose-house-unavailable-23/
LOCATION:Yorkshire
CATEGORIES:White Rose
END:VEVENT
BEGIN:VEVENT
DTSTART;VALUE=DATE:20250627
DTEND;VALUE=DATE:20250630
DTSTAMP:20260422T005416
CREATED:20250212T151258Z
LAST-MODIFIED:20250212T151258Z
UID:3271-1750982400-1751241599@girlguidingnys.org.uk
SUMMARY:White Rose House unavailable
DESCRIPTION:
URL:https://girlguidingnys.org.uk/event/white-rose-house-unavailable-22/
LOCATION:Yorkshire
CATEGORIES:White Rose
END:VEVENT
BEGIN:VEVENT
DTSTART;TZID=UTC:20250613T080000
DTEND;TZID=UTC:20250615T170000
DTSTAMP:20260422T005416
CREATED:20250528T162232Z
LAST-MODIFIED:20250528T162232Z
UID:3363-1749801600-1750006800@girlguidingnys.org.uk
SUMMARY:WRH is unavailable
DESCRIPTION:
URL:https://girlguidingnys.org.uk/event/wrh-is-unavailable/
LOCATION:White Rose House\, 79 Main Street\, Wheldrake\, Yorkshire\, YO19 6AA\, United Kingdom
CATEGORIES:White Rose
END:VEVENT
BEGIN:VEVENT
DTSTART;VALUE=DATE:20250607
DTEND;VALUE=DATE:20250608
DTSTAMP:20260422T005416
CREATED:20250213T142140Z
LAST-MODIFIED:20250213T142140Z
UID:3304-1749254400-1749340799@girlguidingnys.org.uk
SUMMARY:York Pride
DESCRIPTION:Further details to follow
URL:https://girlguidingnys.org.uk/event/york-pride/
LOCATION:Yorkshire
CATEGORIES:Girlguiding North East England
END:VEVENT
BEGIN:VEVENT
DTSTART;VALUE=DATE:20250524
DTEND;VALUE=DATE:20250525
DTSTAMP:20260422T005416
CREATED:20250213T142057Z
LAST-MODIFIED:20250213T142057Z
UID:3302-1748044800-1748131199@girlguidingnys.org.uk
SUMMARY:Social for all county volunteers
DESCRIPTION:Further details to follow
URL:https://girlguidingnys.org.uk/event/social-for-all-county-volunteers/
LOCATION:Yorkshire
CATEGORIES:Girlguiding North East England
END:VEVENT
BEGIN:VEVENT
DTSTART;TZID=UTC:20250518T080000
DTEND;TZID=UTC:20250518T140000
DTSTAMP:20260422T005416
CREATED:20250212T151224Z
LAST-MODIFIED:20250212T151224Z
UID:3269-1747555200-1747576800@girlguidingnys.org.uk
SUMMARY:White Rose House unavailable
DESCRIPTION:
URL:https://girlguidingnys.org.uk/event/white-rose-house-unavailable-21/
LOCATION:Yorkshire
CATEGORIES:White Rose
END:VEVENT
BEGIN:VEVENT
DTSTART;TZID=UTC:20250510T080000
DTEND;TZID=UTC:20250510T203000
DTSTAMP:20260422T005416
CREATED:20250319T145432Z
LAST-MODIFIED:20250526T150207Z
UID:3319-1746864000-1746909000@girlguidingnys.org.uk
SUMMARY:WRH unavailable
DESCRIPTION:
URL:https://girlguidingnys.org.uk/event/wrh-unavailable-6/
LOCATION:White Rose House\, 79 Main Street\, Wheldrake\, Yorkshire\, YO19 6AA\, United Kingdom
CATEGORIES:White Rose
END:VEVENT
BEGIN:VEVENT
DTSTART;VALUE=DATE:20250427
DTEND;VALUE=DATE:20250428
DTSTAMP:20260422T005416
CREATED:20250213T141846Z
LAST-MODIFIED:20250213T141846Z
UID:3300-1745712000-1745798399@girlguidingnys.org.uk
SUMMARY:York and Selby St Georges Day Parade and services
DESCRIPTION:
URL:https://girlguidingnys.org.uk/event/york-and-selby-st-georges-day-parade-and-services/
LOCATION:Yorkshire
CATEGORIES:Girlguiding North East England
END:VEVENT
BEGIN:VEVENT
DTSTART;TZID=UTC:20250412T100000
DTEND;TZID=UTC:20250412T160000
DTSTAMP:20260422T005416
CREATED:20250213T104545Z
LAST-MODIFIED:20250213T104702Z
UID:3276-1744452000-1744473600@girlguidingnys.org.uk
SUMMARY:First Response training
DESCRIPTION:To book contact countyadministrator@girlguidingnys.org.uk
URL:https://girlguidingnys.org.uk/event/first-response-training/
LOCATION:White Rose House\, 79 Main Street\, Wheldrake\, Yorkshire\, YO19 6AA\, United Kingdom
CATEGORIES:Girlguiding North East England
END:VEVENT
BEGIN:VEVENT
DTSTART;VALUE=DATE:20250412
DTEND;VALUE=DATE:20250413
DTSTAMP:20260422T005416
CREATED:20250212T151110Z
LAST-MODIFIED:20250212T151110Z
UID:3265-1744416000-1744502399@girlguidingnys.org.uk
SUMMARY:White Rose House unavailable FR training
DESCRIPTION:
URL:https://girlguidingnys.org.uk/event/white-rose-house-unavailable-fr-training/
LOCATION:Yorkshire
CATEGORIES:White Rose
END:VEVENT
BEGIN:VEVENT
DTSTART;VALUE=DATE:20250405
DTEND;VALUE=DATE:20250406
DTSTAMP:20260422T005416
CREATED:20250213T141703Z
LAST-MODIFIED:20250213T141703Z
UID:3298-1743811200-1743897599@girlguidingnys.org.uk
SUMMARY:Social for county Exec Team and commissioners
DESCRIPTION:
URL:https://girlguidingnys.org.uk/event/social-for-county-exec-team-and-commissioners/
LOCATION:Yorkshire
CATEGORIES:Girlguiding North East England
END:VEVENT
BEGIN:VEVENT
DTSTART;VALUE=DATE:20250405
DTEND;VALUE=DATE:20250406
DTSTAMP:20260422T005416
CREATED:20250212T151138Z
LAST-MODIFIED:20250212T151138Z
UID:3267-1743811200-1743897599@girlguidingnys.org.uk
SUMMARY:White Rose House unavailable
DESCRIPTION:
URL:https://girlguidingnys.org.uk/event/white-rose-house-unavailable-20/
LOCATION:Yorkshire
CATEGORIES:White Rose
END:VEVENT
BEGIN:VEVENT
DTSTART;VALUE=DATE:20250321
DTEND;VALUE=DATE:20250324
DTSTAMP:20260422T005416
CREATED:20250212T151009Z
LAST-MODIFIED:20250212T151009Z
UID:3263-1742515200-1742774399@girlguidingnys.org.uk
SUMMARY:White Rose House unavailable
DESCRIPTION:
URL:https://girlguidingnys.org.uk/event/white-rose-house-unavailable-19/
LOCATION:Yorkshire
CATEGORIES:White Rose
END:VEVENT
BEGIN:VEVENT
DTSTART;TZID=UTC:20250315T090000
DTEND;TZID=UTC:20250315T140000
DTSTAMP:20260422T005416
CREATED:20250213T141259Z
LAST-MODIFIED:20250213T141259Z
UID:3296-1742029200-1742047200@girlguidingnys.org.uk
SUMMARY:White Rose House unavailable
DESCRIPTION:
URL:https://girlguidingnys.org.uk/event/white-rose-house-unavailable-24/
LOCATION:White Rose House\, 79 Main Street\, Wheldrake\, Yorkshire\, YO19 6AA\, United Kingdom
CATEGORIES:White Rose
END:VEVENT
BEGIN:VEVENT
DTSTART;VALUE=DATE:20250301
DTEND;VALUE=DATE:20250303
DTSTAMP:20260422T005416
CREATED:20250212T150140Z
LAST-MODIFIED:20250212T150140Z
UID:3261-1740787200-1740959999@girlguidingnys.org.uk
SUMMARY:White Rose House unavailable
DESCRIPTION:
URL:https://girlguidingnys.org.uk/event/white-rose-house-unavailable-18/
LOCATION:Yorkshire
CATEGORIES:White Rose
END:VEVENT
BEGIN:VEVENT
DTSTART;VALUE=DATE:20241206
DTEND;VALUE=DATE:20241210
DTSTAMP:20260422T005416
CREATED:20221012T071022Z
LAST-MODIFIED:20231018T104704Z
UID:1620-1733443200-1733788799@girlguidingnys.org.uk
SUMMARY:White Rose House is Unavailable
DESCRIPTION:White Rose House is unavailable on this day due to another booking. Please check the calendar for alternative availability – White Rose House Calendar
URL:https://girlguidingnys.org.uk/event/white-rose-house-is-unavailable-11/
LOCATION:Yorkshire
CATEGORIES:White Rose
END:VEVENT
BEGIN:VEVENT
DTSTART;VALUE=DATE:20241206
DTEND;VALUE=DATE:20241209
DTSTAMP:20260422T005416
CREATED:20240409T212319Z
LAST-MODIFIED:20240409T212319Z
UID:2965-1733443200-1733702399@girlguidingnys.org.uk
SUMMARY:White Rose House Unavailable
DESCRIPTION:
URL:https://girlguidingnys.org.uk/event/white-rose-house-unavailable-17/
LOCATION:Yorkshire
CATEGORIES:White Rose
END:VEVENT
BEGIN:VEVENT
DTSTART;VALUE=DATE:20241206
DTEND;VALUE=DATE:20241209
DTSTAMP:20260422T005416
CREATED:20220829T152131Z
LAST-MODIFIED:20240131T064647Z
UID:1314-1733443200-1733702399@girlguidingnys.org.uk
SUMMARY:White Rose House is Unavailable
DESCRIPTION:White Rose House is unavailable on this day due to another booking. Please check the calendar for alternative availability – White Rose House Calendar
URL:https://girlguidingnys.org.uk/event/white-rose-house-is-unavailable-7/
LOCATION:Yorkshire
CATEGORIES:White Rose
END:VEVENT
BEGIN:VEVENT
DTSTART;VALUE=DATE:20241115
DTEND;VALUE=DATE:20241118
DTSTAMP:20260422T005416
CREATED:20240409T212233Z
LAST-MODIFIED:20240409T212233Z
UID:2963-1731628800-1731887999@girlguidingnys.org.uk
SUMMARY:White Rose House Unavailable
DESCRIPTION:
URL:https://girlguidingnys.org.uk/event/white-rose-house-unavailable-16/
LOCATION:Yorkshire
CATEGORIES:White Rose
END:VEVENT
BEGIN:VEVENT
DTSTART;VALUE=DATE:20241108
DTEND;VALUE=DATE:20241111
DTSTAMP:20260422T005416
CREATED:20240409T212136Z
LAST-MODIFIED:20240409T212136Z
UID:2961-1731024000-1731283199@girlguidingnys.org.uk
SUMMARY:White Rose House Unavailable
DESCRIPTION:
URL:https://girlguidingnys.org.uk/event/white-rose-house-unavailable-15/
LOCATION:Yorkshire
CATEGORIES:White Rose
END:VEVENT
BEGIN:VEVENT
DTSTART;VALUE=DATE:20241012
DTEND;VALUE=DATE:20241013
DTSTAMP:20260422T005416
CREATED:20240409T212042Z
LAST-MODIFIED:20240409T212042Z
UID:2959-1728691200-1728777599@girlguidingnys.org.uk
SUMMARY:White Rose House Unavailable
DESCRIPTION:
URL:https://girlguidingnys.org.uk/event/white-rose-house-unavailable-14/
LOCATION:Yorkshire
CATEGORIES:White Rose
END:VEVENT
BEGIN:VEVENT
DTSTART;VALUE=DATE:20241005
DTEND;VALUE=DATE:20241006
DTSTAMP:20260422T005416
CREATED:20240409T211940Z
LAST-MODIFIED:20240409T211940Z
UID:2957-1728086400-1728172799@girlguidingnys.org.uk
SUMMARY:White Rose House Unavailable
DESCRIPTION:
URL:https://girlguidingnys.org.uk/event/white-rose-house-unavailable-13/
LOCATION:Yorkshire
CATEGORIES:White Rose
END:VEVENT
BEGIN:VEVENT
DTSTART;VALUE=DATE:20241005
DTEND;VALUE=DATE:20241006
DTSTAMP:20260422T005416
CREATED:20221012T070852Z
LAST-MODIFIED:20240131T064443Z
UID:1618-1728086400-1728172799@girlguidingnys.org.uk
SUMMARY:White Rose House is Unavailable
DESCRIPTION:White Rose House is unavailable on this day due to another booking. Please check the calendar for alternative availability – White Rose House Calendar
URL:https://girlguidingnys.org.uk/event/white-rose-house-is-unavailable-10/
LOCATION:Yorkshire
CATEGORIES:White Rose
END:VEVENT
BEGIN:VEVENT
DTSTART;VALUE=DATE:20240914
DTEND;VALUE=DATE:20240915
DTSTAMP:20260422T005416
CREATED:20240409T211849Z
LAST-MODIFIED:20240409T211849Z
UID:2955-1726272000-1726358399@girlguidingnys.org.uk
SUMMARY:White Rose House Unavailable
DESCRIPTION:
URL:https://girlguidingnys.org.uk/event/white-rose-house-unavailable-12/
LOCATION:Yorkshire
CATEGORIES:White Rose
END:VEVENT
BEGIN:VEVENT
DTSTART;VALUE=DATE:20240727
DTEND;VALUE=DATE:20240804
DTSTAMP:20260422T005416
CREATED:20221115T120232Z
LAST-MODIFIED:20221115T121950Z
UID:1769-1722038400-1722729599@girlguidingnys.org.uk
SUMMARY:Larkin Jamboree 2024
DESCRIPTION:An International Jamboree for North Yorkshire Scouts and Girlguiding. Further information to be announced in due course.
URL:https://girlguidingnys.org.uk/event/larkin-jamboree-2024/
LOCATION:Duncombe Park\, Helmsley\, YO62 5EB\, United Kingdom
CATEGORIES:Paid via Office
ATTACH;FMTTYPE=image/png:https://girlguidingnys.org.uk/wp-content/uploads/2022/11/Larkin-Jamboree.png
END:VEVENT
BEGIN:VEVENT
DTSTART;TZID=UTC:20240726T170000
DTEND;TZID=UTC:20240727T170000
DTSTAMP:20260422T005416
CREATED:20240409T211746Z
LAST-MODIFIED:20240409T211746Z
UID:2953-1722013200-1722099600@girlguidingnys.org.uk
SUMMARY:White Rose House Unavailable
DESCRIPTION:
URL:https://girlguidingnys.org.uk/event/white-rose-house-unavailable-11/
LOCATION:Yorkshire
CATEGORIES:White Rose
END:VEVENT
BEGIN:VEVENT
DTSTART;TZID=UTC:20240706T080000
DTEND;TZID=UTC:20240707T120000
DTSTAMP:20260422T005416
CREATED:20240409T211621Z
LAST-MODIFIED:20240409T211621Z
UID:2951-1720252800-1720353600@girlguidingnys.org.uk
SUMMARY:White Rose House Unavailable
DESCRIPTION:
URL:https://girlguidingnys.org.uk/event/white-rose-house-unavailable-10/
LOCATION:Yorkshire
CATEGORIES:White Rose
END:VEVENT
BEGIN:VEVENT
DTSTART;VALUE=DATE:20240628
DTEND;VALUE=DATE:20240701
DTSTAMP:20260422T005416
CREATED:20221012T071117Z
LAST-MODIFIED:20240131T064535Z
UID:1622-1719532800-1719791999@girlguidingnys.org.uk
SUMMARY:White Rose House is Unavailable
DESCRIPTION:White Rose House is unavailable on this day due to another booking. Please check the calendar for alternative availability – White Rose House Calendar
URL:https://girlguidingnys.org.uk/event/white-rose-house-is-unavailable-12/
LOCATION:Yorkshire
CATEGORIES:White Rose
END:VEVENT
END:VCALENDAR