BEGIN:VCALENDAR
VERSION:2.0
PRODID:-//GGNYS - ECPv6.15.17.1//NONSGML v1.0//EN
CALSCALE:GREGORIAN
METHOD:PUBLISH
X-WR-CALNAME:GGNYS
X-ORIGINAL-URL:https://girlguidingnys.org.uk
X-WR-CALDESC:Events for GGNYS
REFRESH-INTERVAL;VALUE=DURATION:PT1H
X-Robots-Tag:noindex
X-PUBLISHED-TTL:PT1H
BEGIN:VTIMEZONE
TZID:UTC
BEGIN:STANDARD
TZOFFSETFROM:+0000
TZOFFSETTO:+0000
TZNAME:UTC
DTSTART:20220101T000000
END:STANDARD
END:VTIMEZONE
BEGIN:VEVENT
DTSTART;VALUE=DATE:20240608
DTEND;VALUE=DATE:20240609
DTSTAMP:20260422T013413
CREATED:20240409T211405Z
LAST-MODIFIED:20240409T211405Z
UID:2945-1717804800-1717891199@girlguidingnys.org.uk
SUMMARY:White Rose House Unavailable
DESCRIPTION:
URL:https://girlguidingnys.org.uk/event/white-rose-house-unavailable-7/
LOCATION:Yorkshire
CATEGORIES:White Rose
END:VEVENT
BEGIN:VEVENT
DTSTART;VALUE=DATE:20240530
DTEND;VALUE=DATE:20240603
DTSTAMP:20260422T013413
CREATED:20231103T194241Z
LAST-MODIFIED:20231103T194241Z
UID:2798-1717027200-1717372799@girlguidingnys.org.uk
SUMMARY:JamBrownee 2024
DESCRIPTION:This event is aimed at girls from 8 to 10 years old to give them a taste of conservation\, biodiversity and community action\, and show them the large scale of the movement they are part of. \nBring your Brownies for a weekend away they’ll never forget… \nThe cost includes: \n\nThree nights’ accommodation in shared rooms\nAll meals from dinner on Thursday to breakfast on Sunday\nProgramme Activities from Thursday evening to Sunday morning\nOfficial pinning ceremony
URL:https://girlguidingnys.org.uk/event/jambrownee-2024/
LOCATION:Pax Lodge\, 12c Lyndhurst Road\, London\, NW3 5PQ\, United Kingdom
CATEGORIES:WAGGGS Event
ATTACH;FMTTYPE=image/jpeg:https://girlguidingnys.org.uk/wp-content/uploads/2022/06/D-0AA3ACCA_00001_1-1.jpg
END:VEVENT
BEGIN:VEVENT
DTSTART;VALUE=DATE:20240518
DTEND;VALUE=DATE:20240519
DTSTAMP:20260422T013413
CREATED:20240203T182518Z
LAST-MODIFIED:20240203T182527Z
UID:2863-1715990400-1716076799@girlguidingnys.org.uk
SUMMARY:Brownie Adventure Day 2024
DESCRIPTION:Join Brownie units from across the county for an adventure day at William’s Den! \nMore information to follow – save the date for now!
URL:https://girlguidingnys.org.uk/event/brownie-adventure-day-2024/
LOCATION:William’s Den\, William's Den\, Castle Farm\, Wold Hill\, North Cave\, East Riding of Yorkshire\, HU15 2LS\, United Kingdom
END:VEVENT
BEGIN:VEVENT
DTSTART;TZID=UTC:20240512T120000
DTEND;TZID=UTC:20240512T200000
DTSTAMP:20260422T013413
CREATED:20240409T211311Z
LAST-MODIFIED:20240409T211311Z
UID:2943-1715515200-1715544000@girlguidingnys.org.uk
SUMMARY:White Rose House Unavailable
DESCRIPTION:
URL:https://girlguidingnys.org.uk/event/white-rose-house-unavailable-6/
LOCATION:Yorkshire
CATEGORIES:White Rose
END:VEVENT
BEGIN:VEVENT
DTSTART;VALUE=DATE:20240503
DTEND;VALUE=DATE:20240507
DTSTAMP:20260422T013413
CREATED:20220829T152233Z
LAST-MODIFIED:20231018T104520Z
UID:1316-1714694400-1715039999@girlguidingnys.org.uk
SUMMARY:White Rose House is Unavailable
DESCRIPTION:White Rose House is unavailable on this day due to another booking. Please check the calendar for alternative availability – White Rose House Calendar
URL:https://girlguidingnys.org.uk/event/white-rose-house-is-unavailable-8/
LOCATION:Yorkshire
CATEGORIES:White Rose
END:VEVENT
BEGIN:VEVENT
DTSTART;VALUE=DATE:20240503
DTEND;VALUE=DATE:20240506
DTSTAMP:20260422T013413
CREATED:20240409T211203Z
LAST-MODIFIED:20240409T211203Z
UID:2941-1714694400-1714953599@girlguidingnys.org.uk
SUMMARY:White Rose House Unavailable
DESCRIPTION:
URL:https://girlguidingnys.org.uk/event/white-rose-house-unavailable-5/
LOCATION:Yorkshire
CATEGORIES:White Rose
END:VEVENT
BEGIN:VEVENT
DTSTART;VALUE=DATE:20240426
DTEND;VALUE=DATE:20240429
DTSTAMP:20260422T013413
CREATED:20240409T211122Z
LAST-MODIFIED:20240409T211122Z
UID:2939-1714089600-1714348799@girlguidingnys.org.uk
SUMMARY:White Rose House Unavailable
DESCRIPTION:
URL:https://girlguidingnys.org.uk/event/white-rose-house-unavailable-4/
LOCATION:Yorkshire
CATEGORIES:White Rose
END:VEVENT
BEGIN:VEVENT
DTSTART;VALUE=DATE:20240426
DTEND;VALUE=DATE:20240429
DTSTAMP:20260422T013413
CREATED:20220829T152340Z
LAST-MODIFIED:20240131T064232Z
UID:1318-1714089600-1714348799@girlguidingnys.org.uk
SUMMARY:White Rose House is Unavailable
DESCRIPTION:White Rose House is unavailable on this day due to another booking. Please check the calendar for alternative availability – White Rose House Calendar
URL:https://girlguidingnys.org.uk/event/white-rose-house-is-unavailable-9/
LOCATION:Yorkshire
CATEGORIES:White Rose
END:VEVENT
BEGIN:VEVENT
DTSTART;VALUE=DATE:20240421
DTEND;VALUE=DATE:20240422
DTSTAMP:20260422T013413
CREATED:20231103T194331Z
LAST-MODIFIED:20231103T194331Z
UID:2796-1713657600-1713743999@girlguidingnys.org.uk
SUMMARY:St George’s Day Parade
DESCRIPTION:Members of North Yorkshire South will be participating in the St George’s Day Parades at York Minster and Selby Abbey. Please liaise with your unit leaders over the specific details for your unit.
URL:https://girlguidingnys.org.uk/event/st-georges-day-parade-2/
LOCATION:York\, United Kingdom
CATEGORIES:Free
ATTACH;FMTTYPE=image/jpeg:https://girlguidingnys.org.uk/wp-content/uploads/2022/05/DSC00398-768x512-1.jpg
END:VEVENT
BEGIN:VEVENT
DTSTART;VALUE=DATE:20240414
DTEND;VALUE=DATE:20240415
DTSTAMP:20260422T013413
CREATED:20240409T211011Z
LAST-MODIFIED:20240409T211011Z
UID:2937-1713052800-1713139199@girlguidingnys.org.uk
SUMMARY:White Rose House Unavailable
DESCRIPTION:
URL:https://girlguidingnys.org.uk/event/white-rose-house-unavailable-3/
LOCATION:Yorkshire
CATEGORIES:White Rose
END:VEVENT
BEGIN:VEVENT
DTSTART;VALUE=DATE:20240412
DTEND;VALUE=DATE:20240413
DTSTAMP:20260422T013413
CREATED:20240409T210925Z
LAST-MODIFIED:20240409T210925Z
UID:2935-1712880000-1712966399@girlguidingnys.org.uk
SUMMARY:White Rose House Unavailable
DESCRIPTION:
URL:https://girlguidingnys.org.uk/event/white-rose-house-unavailable-2/
LOCATION:Yorkshire
CATEGORIES:White Rose
END:VEVENT
BEGIN:VEVENT
DTSTART;VALUE=DATE:20240406
DTEND;VALUE=DATE:20240408
DTSTAMP:20260422T013413
CREATED:20220829T151814Z
LAST-MODIFIED:20240131T064143Z
UID:1308-1712361600-1712534399@girlguidingnys.org.uk
SUMMARY:White Rose House is Unavailable
DESCRIPTION:White Rose House is unavailable on this day due to another booking. Please check the calendar for alternative availability – White Rose House Calendar
URL:https://girlguidingnys.org.uk/event/white-rose-house-is-unavailable-4/
LOCATION:Yorkshire
CATEGORIES:White Rose
END:VEVENT
BEGIN:VEVENT
DTSTART;VALUE=DATE:20240405
DTEND;VALUE=DATE:20240407
DTSTAMP:20260422T013413
CREATED:20240409T210823Z
LAST-MODIFIED:20240409T210823Z
UID:2933-1712275200-1712447999@girlguidingnys.org.uk
SUMMARY:White Rose House Unavailable
DESCRIPTION:
URL:https://girlguidingnys.org.uk/event/white-rose-house-unavailable/
LOCATION:Yorkshire
CATEGORIES:White Rose
END:VEVENT
BEGIN:VEVENT
DTSTART;VALUE=DATE:20240323
DTEND;VALUE=DATE:20240325
DTSTAMP:20260422T013413
CREATED:20220829T151550Z
LAST-MODIFIED:20240131T064037Z
UID:1304-1711152000-1711324799@girlguidingnys.org.uk
SUMMARY:White Rose House is Unavailable
DESCRIPTION:White Rose House is unavailable on this day due to another booking. Please check the calendar for alternative availability – White Rose House Calendar
URL:https://girlguidingnys.org.uk/event/white-rose-house-is-unavailable-2/
LOCATION:Yorkshire
CATEGORIES:White Rose
END:VEVENT
BEGIN:VEVENT
DTSTART;VALUE=DATE:20240316
DTEND;VALUE=DATE:20240318
DTSTAMP:20260422T013413
CREATED:20221012T071405Z
LAST-MODIFIED:20231018T103901Z
UID:1626-1710547200-1710719999@girlguidingnys.org.uk
SUMMARY:White Rose House is Unavailable
DESCRIPTION:White Rose House is unavailable on this day due to another booking. Please check the calendar for alternative availability – White Rose House Calendar
URL:https://girlguidingnys.org.uk/event/white-rose-house-is-unavailable-14/
LOCATION:Yorkshire
CATEGORIES:White Rose
END:VEVENT
BEGIN:VEVENT
DTSTART;VALUE=DATE:20240309
DTEND;VALUE=DATE:20240311
DTSTAMP:20260422T013413
CREATED:20220814T085054Z
LAST-MODIFIED:20240131T063954Z
UID:1221-1709942400-1710115199@girlguidingnys.org.uk
SUMMARY:White Rose House is Unavailable
DESCRIPTION:White Rose House is unavailable on this day due to another booking. Please check the calendar for alternative availability – White Rose House Calendar
URL:https://girlguidingnys.org.uk/event/wrh-unavailable/
LOCATION:Yorkshire
CATEGORIES:White Rose
END:VEVENT
BEGIN:VEVENT
DTSTART;VALUE=DATE:20240302
DTEND;VALUE=DATE:20240310
DTSTAMP:20260422T013413
CREATED:20231103T194405Z
LAST-MODIFIED:20231103T194405Z
UID:2793-1709337600-1710028799@girlguidingnys.org.uk
SUMMARY:Splash into Spring 1
DESCRIPTION:Start your spring season by experiencing the beauty of Mexico’s magical towns. This event will allow you to enjoy water\, sun and fun at a local water park\, visit ancient and colonial towns and connect with local Mexican Girl Guides as you collaborate on a meaningful community action activity. \n  \nMin capacity is 20 participants and leaders/parents must accompany under 18s on activities.
URL:https://girlguidingnys.org.uk/event/splash-into-spring-1/
LOCATION:Nuestra Cabana World Centre\, Mexico
CATEGORIES:WAGGGS Event
ATTACH;FMTTYPE=image/jpeg:https://girlguidingnys.org.uk/wp-content/uploads/2022/06/hands-600497_1920.jpg
END:VEVENT
BEGIN:VEVENT
DTSTART;VALUE=DATE:20240302
DTEND;VALUE=DATE:20240304
DTSTAMP:20260422T013413
CREATED:20221012T071507Z
LAST-MODIFIED:20231018T103455Z
UID:1628-1709337600-1709510399@girlguidingnys.org.uk
SUMMARY:White Rose House is Unavailable
DESCRIPTION:White Rose House is unavailable on this day due to another booking. Please check the calendar for alternative availability – White Rose House Calendar
URL:https://girlguidingnys.org.uk/event/white-rose-house-is-unavailable-15/
LOCATION:Yorkshire
CATEGORIES:White Rose
END:VEVENT
BEGIN:VEVENT
DTSTART;VALUE=DATE:20240122
DTEND;VALUE=DATE:20240129
DTSTAMP:20260422T013413
CREATED:20231103T194453Z
LAST-MODIFIED:20231103T194453Z
UID:2787-1705881600-1706486399@girlguidingnys.org.uk
SUMMARY:Discover Incredible India 2024
DESCRIPTION:Come to Sangam and immerse yourself in Incredible India! \nFor members of Girlguiding to take part in a range of activities inside and outside Sangam. Leaders of parents/guardians must accompany under 18s in programme activity.
URL:https://girlguidingnys.org.uk/event/discover-incredible-india-2024/
LOCATION:Sangam\, India
CATEGORIES:WAGGGS Event
ATTACH;FMTTYPE=image/jpeg:https://girlguidingnys.org.uk/wp-content/uploads/2022/06/hands-600497_1920.jpg
END:VEVENT
BEGIN:VEVENT
DTSTART;TZID=UTC:20240120T100000
DTEND;TZID=UTC:20240120T160000
DTSTAMP:20260422T013413
CREATED:20231103T194026Z
LAST-MODIFIED:20231103T194026Z
UID:2791-1705744800-1705766400@girlguidingnys.org.uk
SUMMARY:First Response In Person Training Session
DESCRIPTION:An opportunity to gain the First Response qualification. This event costs £5 which is a legitimate unit expense. Please contact countyadministrator@girlguidingnys.org.uk to book your space.
URL:https://girlguidingnys.org.uk/event/first-response-in-person-training-session/
LOCATION:NEE Region Office\, 7 Alpha Court\, Monks Cross Drive\, York\, YO32 9WN\, United Kingdom
CATEGORIES:Paid via Office
ATTACH;FMTTYPE=image/jpeg:https://girlguidingnys.org.uk/wp-content/uploads/2022/07/doctor-1015626_1920.jpg
END:VEVENT
BEGIN:VEVENT
DTSTART;VALUE=DATE:20240112
DTEND;VALUE=DATE:20240116
DTSTAMP:20260422T013413
CREATED:20221012T071249Z
LAST-MODIFIED:20231018T103053Z
UID:1624-1705017600-1705363199@girlguidingnys.org.uk
SUMMARY:White Rose House is Unavailable
DESCRIPTION:White Rose House is unavailable on this day due to another booking. Please check the calendar for alternative availability – White Rose House Calendar
URL:https://girlguidingnys.org.uk/event/white-rose-house-is-unavailable-13/
LOCATION:Yorkshire
CATEGORIES:White Rose
END:VEVENT
BEGIN:VEVENT
DTSTART;VALUE=DATE:20231203
DTEND;VALUE=DATE:20231204
DTSTAMP:20260422T013413
CREATED:20230810T065731Z
LAST-MODIFIED:20230810T070336Z
UID:2680-1701561600-1701647999@girlguidingnys.org.uk
SUMMARY:Rainbow Santa Special 2023
DESCRIPTION:This year our Rainbows will be enchanted with our annual Christmas experience at Murton Park. We will visit Santa in his village\, receive a gift of special Christmas Murton Money to exchange for a gift in the toy shop and find Mrs Christmas on the train with the elves. You’ll then enjoy a ride on the Derwent Valley Light Railway Christmas train and some simple Christmas crafts to try and take home. \nTwo sessions will run during the day\, full details have been provided to unit leaders directly. If you need any further information please contact countyadministrator@girlguidingnys.org.uk
URL:https://girlguidingnys.org.uk/event/rainbow-santa-special-2023/
LOCATION:Yorkshire
CATEGORIES:Paid via Office
ATTACH;FMTTYPE=image/jpeg:https://girlguidingnys.org.uk/wp-content/uploads/2022/06/fireworks-g49eb12217_1920.jpg
END:VEVENT
BEGIN:VEVENT
DTSTART;TZID=UTC:20231012T193000
DTEND;TZID=UTC:20231012T210000
DTSTAMP:20260422T013413
CREATED:20230510T123838Z
LAST-MODIFIED:20230510T124046Z
UID:2601-1697139000-1697144400@girlguidingnys.org.uk
SUMMARY:Brownies Air & Share
DESCRIPTION:Join Brownie leaders from across North Yorkshire South for an informal discussion and exchange of ideas. Please email countyadministrator@girlguidingnys.org.uk to request the Zoom login details.
URL:https://girlguidingnys.org.uk/event/brownies-air-share-2/
LOCATION:Zoom
CATEGORIES:Free
ATTACH;FMTTYPE=image/jpeg:https://girlguidingnys.org.uk/wp-content/uploads/2023/01/Air-and-Share.jpg
END:VEVENT
BEGIN:VEVENT
DTSTART;TZID=UTC:20231007T100000
DTEND;TZID=UTC:20231007T160000
DTSTAMP:20260422T013413
CREATED:20230817T181543Z
LAST-MODIFIED:20230817T192942Z
UID:2683-1696672800-1696694400@girlguidingnys.org.uk
SUMMARY:Savvy Saturday
DESCRIPTION:A county day with a difference! Based on a knowledge exchange principle this is a chance to ”Pump up the Programme” and “Gee up your Guiding”. An event for volunteers to come together to share and gain knowledge including: adventure for units\, activity exchange\, treasurer’s tips\, turning parents into volunteers\, looking after you and much more! Participants will choose their preferred sessions\, some of which will be trainer led and others facilitated discussions amongst participants. \n10am – 4pm at Haxby and Wigginton Methodist Church. Young Leaders and External Volunteers welcome (permission forms required). \nCost £5\, which is a legitimate unit expense. Uniform to be worn\,. Refreshments provided but own lunch required. \nOnly open to volunteers with Girlguiding North Yorkshire South. Please contact Elizabeth at countyadministrator@girlguidingnys.org.uk to reserve your space and organize payment.
URL:https://girlguidingnys.org.uk/event/savvy-saturday/
LOCATION:Haxby Methodist Church\, Haxby Methodist Church\, York\, North Yorkshire\, YO32 2JJ\, United Kingdom
CATEGORIES:Paid via Office
ATTACH;FMTTYPE=image/jpeg:https://girlguidingnys.org.uk/wp-content/uploads/2022/05/coffee-g7718ad6ae_1920.jpg
END:VEVENT
BEGIN:VEVENT
DTSTART;VALUE=DATE:20230922
DTEND;VALUE=DATE:20230925
DTSTAMP:20260422T013413
CREATED:20220626T182809Z
LAST-MODIFIED:20221115T111446Z
UID:781-1695340800-1695599999@girlguidingnys.org.uk
SUMMARY:Fearless Fun 2023
DESCRIPTION:Our adventurous activity weekend just for Brownies and Guides. Being held at Waddow Hall\, Foxlease\, Glenbrook and Blackland Farm.
URL:https://girlguidingnys.org.uk/event/fearless-fun-2023/
LOCATION:Waddow Hall\, Waddington Road\, Clitheroe\, Lancashire\, BB7 3LD\, United Kingdom
CATEGORIES:Girlguiding UK Event
ATTACH;FMTTYPE=image/jpeg:https://girlguidingnys.org.uk/wp-content/uploads/2022/06/soap-bubble-2403673_1920.jpg
END:VEVENT
BEGIN:VEVENT
DTSTART;TZID=UTC:20230920T193000
DTEND;TZID=UTC:20230920T210000
DTSTAMP:20260422T013413
CREATED:20230510T124102Z
LAST-MODIFIED:20230510T124224Z
UID:2603-1695238200-1695243600@girlguidingnys.org.uk
SUMMARY:Rainbows Air & Share
DESCRIPTION:Join Rainbow leaders from across North Yorkshire South for an informal discussion and exchange of ideas. Please email countyadministrator@girlguidingnys.org.uk to request the Zoom login details.
URL:https://girlguidingnys.org.uk/event/rainbows-air-share-2/
LOCATION:Zoom
CATEGORIES:Free
ATTACH;FMTTYPE=image/jpeg:https://girlguidingnys.org.uk/wp-content/uploads/2023/01/Air-and-Share.jpg
END:VEVENT
BEGIN:VEVENT
DTSTART;TZID=UTC:20230917T110000
DTEND;TZID=UTC:20230917T170000
DTSTAMP:20260422T013413
CREATED:20230622T082253Z
LAST-MODIFIED:20230622T082253Z
UID:2657-1694948400-1694970000@girlguidingnys.org.uk
SUMMARY:Young Leaders and External Volunteers Drop In Session
DESCRIPTION:Calling all young leaders\, external volunteers and their leaders! \nBeing a young leader is an excellent opportunity to make a difference to so many. Enhancing leadership skills\, becoming a role model for younger girls\, gain skills and have fun. It also provides other opportunities such as becoming a peer educator\, completing the Queen’s Guide award and the Duke of Edinburgh award scheme to name a few. \nThis drop in session with Alison Cunningham\, County Commissioner\, is being held on 17th September from 11am – 5pm at White Rose House. Pop in at any time for a chat about the role\, training\, opportunities and the help/support that is available\, plus anything else! Refreshments available all day. \nThis is a non-uniform event. Please RSVP by 8th September to countysecretary@girlguidingnys.org.uk
URL:https://girlguidingnys.org.uk/event/young-leaders-and-external-volunteers-drop-in-session/
LOCATION:White Rose House\, 79 Main Street\, Wheldrake\, Yorkshire\, YO19 6AA\, United Kingdom
CATEGORIES:Free
ATTACH;FMTTYPE=image/jpeg:https://girlguidingnys.org.uk/wp-content/uploads/2023/06/YL-Flyer-Image.jpg
END:VEVENT
BEGIN:VEVENT
DTSTART;TZID=UTC:20230901T193000
DTEND;TZID=UTC:20230901T210000
DTSTAMP:20260422T013413
CREATED:20230510T123533Z
LAST-MODIFIED:20231018T101937Z
UID:2599-1693596600-1693602000@girlguidingnys.org.uk
SUMMARY:Guide/Rangers Air & Share
DESCRIPTION:Join Guide and Ranger leaders from across North Yorkshire South for an informal discussion and exchange of ideas. Please email countyadministrator@girlguidingnys.org.uk to request the Zoom login details.
URL:https://girlguidingnys.org.uk/event/guide-rangers-air-share2/
LOCATION:Zoom
CATEGORIES:Free
ATTACH;FMTTYPE=image/jpeg:https://girlguidingnys.org.uk/wp-content/uploads/2023/01/Air-and-Share.jpg
END:VEVENT
BEGIN:VEVENT
DTSTART;VALUE=DATE:20230825
DTEND;VALUE=DATE:20230829
DTSTAMP:20260422T013413
CREATED:20220626T183251Z
LAST-MODIFIED:20221115T111613Z
UID:784-1692921600-1693267199@girlguidingnys.org.uk
SUMMARY:Wellies and Wristbands 2023
DESCRIPTION:Wellies and Wristbands is Girlguiding’s flagship festival for Guides and Rangers. Being held at Waddow Hall and Foxlease.
URL:https://girlguidingnys.org.uk/event/wellies-and-wristbands/
LOCATION:Waddow Hall\, Waddington Road\, Clitheroe\, Lancashire\, BB7 3LD\, United Kingdom
CATEGORIES:Girlguiding UK Event
ATTACH;FMTTYPE=image/jpeg:https://girlguidingnys.org.uk/wp-content/uploads/2022/06/gumboots-2790714_1920.jpg
END:VEVENT
BEGIN:VEVENT
DTSTART;VALUE=DATE:20230811
DTEND;VALUE=DATE:20230818
DTSTAMP:20260422T013413
CREATED:20221115T114525Z
LAST-MODIFIED:20221115T114525Z
UID:1761-1691712000-1692316799@girlguidingnys.org.uk
SUMMARY:Explore Event 3 at Our Chalet
DESCRIPTION:An event for Girlguiding members aged 12 – 18 and their leaders. Try some outdoor activities in the mountains and get to know Switzerland and Our Chalet.
URL:https://girlguidingnys.org.uk/event/explore-event-3-at-our-chalet/
LOCATION:Our Chalet\, Switzerland
CATEGORIES:WAGGGS Event
ATTACH;FMTTYPE=image/jpeg:https://girlguidingnys.org.uk/wp-content/uploads/2022/05/mountaineers-g603d1d2ae_1920.jpg
END:VEVENT
END:VCALENDAR